BEGIN:VCALENDAR
VERSION:2.0
PRODID:-//Savannah Crossing - ECPv4.6.14.1//NONSGML v1.0//EN
CALSCALE:GREGORIAN
METHOD:PUBLISH
X-WR-CALNAME:Savannah Crossing
X-ORIGINAL-URL:https://savannah-crossing.com
X-WR-CALDESC:Events for Savannah Crossing
BEGIN:VEVENT
DTSTART;TZID=America/Chicago:20161218T170000
DTEND;TZID=America/Chicago:20161218T200000
DTSTAMP:20260423T090205
CREATED:20161006T013021Z
LAST-MODIFIED:20161006T013046Z
UID:651-1482080400-1482091200@savannah-crossing.com
SUMMARY:Holiday Light Judging
DESCRIPTION:The holiday light contest judging takes place this evening from 5-8 pm. \nWinners will be announced after 8 pm that evening. \n
URL:https://savannah-crossing.com/event/2016-holiday-light-judging/
CATEGORIES:Social Event
END:VEVENT
END:VCALENDAR