BEGIN:VCALENDAR
VERSION:2.0
PRODID:-//Savannah Crossing - ECPv4.6.14.1//NONSGML v1.0//EN
CALSCALE:GREGORIAN
METHOD:PUBLISH
X-WR-CALNAME:Savannah Crossing
X-ORIGINAL-URL:https://savannah-crossing.com
X-WR-CALDESC:Events for Savannah Crossing
BEGIN:VEVENT
DTSTART;VALUE=DATE:20180324
DTEND;VALUE=DATE:20180325
DTSTAMP:20260420T131904
CREATED:20180209T135938Z
LAST-MODIFIED:20180226T185804Z
UID:842-1521849600-1521935999@savannah-crossing.com
SUMMARY:Easter Egg Hunt
DESCRIPTION:The Savannah Crossing HOA’s social committee will be hosting our annual Easter Egg Hunt. In case of inclement weather\, a rain date is set for March 31. \nIt will take place in the cul-de-sac on Birmingham Drive. \nGet the official flyer here. \n
URL:https://savannah-crossing.com/event/2018-03-24-easter-egg-hunt/
LOCATION:Birmingham Drive\, Glen Carbon\, IL\, 62034\, United States
CATEGORIES:Social Event
END:VEVENT
END:VCALENDAR