BEGIN:VCALENDAR
VERSION:2.0
PRODID:-//Savannah Crossing - ECPv4.6.14.1//NONSGML v1.0//EN
CALSCALE:GREGORIAN
METHOD:PUBLISH
X-WR-CALNAME:Savannah Crossing
X-ORIGINAL-URL:https://savannah-crossing.com
X-WR-CALDESC:Events for Savannah Crossing
BEGIN:VEVENT
DTSTART;TZID=America/Chicago:20180419T190000
DTEND;TZID=America/Chicago:20180419T200000
DTSTAMP:20260420T104255
CREATED:20180209T133906Z
LAST-MODIFIED:20180831T211437Z
UID:824-1524164400-1524168000@savannah-crossing.com
SUMMARY:HOA Board Touchpoint
DESCRIPTION:Board convened to review outstanding HOA action items \nMeeting Minutes \n
URL:https://savannah-crossing.com/event/2018-04-19-board-meeting/
CATEGORIES:Board Meeting
END:VEVENT
END:VCALENDAR