BEGIN:VCALENDAR
VERSION:2.0
PRODID:-//Savannah Crossing - ECPv4.6.14.1//NONSGML v1.0//EN
CALSCALE:GREGORIAN
METHOD:PUBLISH
X-WR-CALNAME:Savannah Crossing
X-ORIGINAL-URL:https://savannah-crossing.com
X-WR-CALDESC:Events for Savannah Crossing
BEGIN:VEVENT
DTSTART;VALUE=DATE:20181105
DTEND;VALUE=DATE:20181109
DTSTAMP:20260423T090346
CREATED:20180209T135453Z
LAST-MODIFIED:20180831T210742Z
UID:839-1541376000-1541721599@savannah-crossing.com
SUMMARY:HOA Board Meeting
DESCRIPTION:Date is TBD but please join us at our next HOA meeting on tentatively schedule for the week of Nov 5th at the Glen Carbon Senior Community Center. \nAll residents are welcomed and encouraged to attend. \n
URL:https://savannah-crossing.com/event/2018-12-14-board-meeting/
CATEGORIES:Board Meeting
END:VEVENT
END:VCALENDAR