BEGIN:VCALENDAR
VERSION:2.0
PRODID:-//Savannah Crossing - ECPv4.6.14.1//NONSGML v1.0//EN
CALSCALE:GREGORIAN
METHOD:PUBLISH
X-WR-CALNAME:Savannah Crossing
X-ORIGINAL-URL:https://savannah-crossing.com
X-WR-CALDESC:Events for Savannah Crossing
BEGIN:VEVENT
DTSTART;TZID=America/Chicago:20180914T160000
DTEND;TZID=America/Chicago:20180915T120000
DTSTAMP:20260423T085635
CREATED:20180831T212338Z
LAST-MODIFIED:20180831T213045Z
UID:1499-1536940800-1537012800@savannah-crossing.com
SUMMARY:Fall Yard Sale
DESCRIPTION:Savannah Crossing sub-division Fall Yard Sale! \nFriday 9/14 4-8pm \nSaturday 9/15 8-12noon \nIf you plan to participate as a resident email the board@savannah-crossing.com as we will make a map of participating homes \n
URL:https://savannah-crossing.com/event/2018-fall-yard-sale/
END:VEVENT
END:VCALENDAR