BEGIN:VCALENDAR
VERSION:2.0
PRODID:-//Savannah Crossing - ECPv4.6.14.1//NONSGML v1.0//EN
CALSCALE:GREGORIAN
METHOD:PUBLISH
X-WR-CALNAME:Savannah Crossing
X-ORIGINAL-URL:https://savannah-crossing.com
X-WR-CALDESC:Events for Savannah Crossing
BEGIN:VEVENT
DTSTART;TZID=America/Chicago:20190226T183000
DTEND;TZID=America/Chicago:20190226T200000
DTSTAMP:20260421T140242
CREATED:20190115T194204Z
LAST-MODIFIED:20190115T194531Z
UID:1636-1551205800-1551211200@savannah-crossing.com
SUMMARY:Public Board Meeting
DESCRIPTION:The Savannah Crossing Homeowners Association will be hosting a board meeting at the Glen Carbon Centennial Library on February 26 at 6:30 pm. Residents of the subdivision are encouraged to attend. \n
URL:https://savannah-crossing.com/event/2019-02-26-board-meeting/
LOCATION:198 S. Main\, Glen Carbon\, IL\, 62034\, United States
CATEGORIES:Board Meeting,Voting
END:VEVENT
END:VCALENDAR