BEGIN:VCALENDAR
VERSION:2.0
PRODID:-//Savannah Crossing - ECPv4.6.14.1//NONSGML v1.0//EN
CALSCALE:GREGORIAN
METHOD:PUBLISH
X-WR-CALNAME:Savannah Crossing
X-ORIGINAL-URL:https://savannah-crossing.com
X-WR-CALDESC:Events for Savannah Crossing
BEGIN:VEVENT
DTSTART;TZID=America/Chicago:20190414T150000
DTEND;TZID=America/Chicago:20190414T170000
DTSTAMP:20260420T085221
CREATED:20190408T180029Z
LAST-MODIFIED:20190408T180226Z
UID:1682-1555254000-1555261200@savannah-crossing.com
SUMMARY:Annual Easter Egg Hunt Rain Date
DESCRIPTION:The Easter Egg Hunt was postponed until 4/14 due to the possibility of rain. \nPlease join us for the annual subdivision Easter Egg Hunt! All kids are welcome. Neighboring residents are also welcome. We will hide 18 eggs per child signed up\, plus a fun craft! \nView details and signup form on Nextdoor \n
URL:https://savannah-crossing.com/event/2019-04-14-annual-easter-egg-hunt/
LOCATION:Birmingham Drive\, Glen Carbon\, IL\, 62034\, United States
CATEGORIES:Social Event
END:VEVENT
END:VCALENDAR