BEGIN:VCALENDAR
VERSION:2.0
PRODID:-//Savannah Crossing - ECPv4.6.14.1//NONSGML v1.0//EN
CALSCALE:GREGORIAN
METHOD:PUBLISH
X-WR-CALNAME:Savannah Crossing
X-ORIGINAL-URL:https://savannah-crossing.com
X-WR-CALDESC:Events for Savannah Crossing
BEGIN:VEVENT
DTSTART;TZID=UTC+0:20160320T150000
DTEND;TZID=UTC+0:20160320T170000
DTSTAMP:20260423T085743
CREATED:20160315T184341Z
LAST-MODIFIED:20160315T184341Z
UID:312-1458486000-1458493200@savannah-crossing.com
SUMMARY:3rd Annual Easter Egg Hunt
DESCRIPTION:The 3rd annual Easter Eggstravaganza\, originally planned for March 13\, has been postponed due to rain. We will be making another attempt on March 20 beginning at 3pm. \n
URL:https://savannah-crossing.com/event/3rd-annual-easter-egg-hunt/
LOCATION:7000 Savannah Drive\, Glen Carbon\, IL\, United States
CATEGORIES:Social Event
END:VEVENT
END:VCALENDAR