BEGIN:VCALENDAR
VERSION:2.0
PRODID:-//Savannah Crossing - ECPv4.6.14.1//NONSGML v1.0//EN
CALSCALE:GREGORIAN
METHOD:PUBLISH
X-WR-CALNAME:Savannah Crossing
X-ORIGINAL-URL:https://savannah-crossing.com
X-WR-CALDESC:Events for Savannah Crossing
BEGIN:VEVENT
DTSTART;VALUE=DATE:20181216
DTEND;VALUE=DATE:20181217
DTSTAMP:20260421T152919
CREATED:20180831T211949Z
LAST-MODIFIED:20180831T211949Z
UID:1497-1544918400-1545004799@savannah-crossing.com
SUMMARY:Holiday Winter Lights Contest
DESCRIPTION:Details forthcoming \n
URL:https://savannah-crossing.com/event/holiday-winter-lights-contest/
END:VEVENT
END:VCALENDAR