BEGIN:VCALENDAR
VERSION:2.0
PRODID:-//Savannah Crossing - ECPv4.6.14.1//NONSGML v1.0//EN
CALSCALE:GREGORIAN
METHOD:PUBLISH
X-WR-CALNAME:Savannah Crossing
X-ORIGINAL-URL:https://savannah-crossing.com
X-WR-CALDESC:Events for Savannah Crossing
BEGIN:VEVENT
DTSTART;TZID=America/Chicago:20170928T173000
DTEND;TZID=America/Chicago:20170928T190000
DTSTAMP:20260423T090336
CREATED:20170922T141623Z
LAST-MODIFIED:20170922T141853Z
UID:756-1506619800-1506625200@savannah-crossing.com
SUMMARY:Open Forum to Discuss HOA Dues
DESCRIPTION:HOA Open Forum at the Mannie Jackson Center to Discuss HOA Dues \n1210 N Main St\, Edwardsville\, IL 62025\nThursday 9/28\n“Meet and Greet” from 5:30 – 6 pm\nOpen Forum from 6 – 7 pm \nWondering where your HOA dollars are going? \n
URL:https://savannah-crossing.com/event/open-forum-to-discuss-hoa-dues/
LOCATION:1210 N Main St\, Edwardsville\, IL\, 62025\, United States
END:VEVENT
END:VCALENDAR